BEGIN:VCALENDAR
VERSION:2.0
PRODID:-//wp-events-plugin.com//7.2.3.1//EN
TZID:America/Edmonton
X-WR-TIMEZONE:America/Edmonton
BEGIN:VEVENT
UID:2066@calgarycsl.org
DTSTART;TZID=America/Edmonton:20230410T190000
DTEND;TZID=America/Edmonton:20230410T203000
DTSTAMP:20230327T151314Z
URL:https://calgarycsl.org/events/consciousness-seekers-2-2023-04-10/
SUMMARY:Consciousness Seekers - Exercise your spiritual curiosity
DESCRIPTION:Spiritual Practitioner\, Ron Hahn\, continues to facilitate thi
 s popular and informal discussion group called Consciousness Seekers on M
 onday evenings 7- 8:30 pm.\nContinuing to meet via Zoom: https://us02web.z
 oom.us/j/85965082549?pwd=MU85aGFYQTdxZWhISVZ1SUZkTzM3UT09    Password is
  883491\nMeditation\, examination of various spiritual philosophies\, read
 ings and texts are used to promote discussion among the participants\, who
  are welcome to actively join in or simply listen and consider.\nThe book
   we will use starting April 17th and going to June 19th is "A New Earth
 " by Eckhart Tolle.  This is really an easy exploration that everyone can
  enjoy from the spiritually curious to the long time seeker.   \n No re
 gistration is required and it is free to participate.  It’s free to par
 ticipate – love offerings are appreciated.  Just link in and begin. \n
 Join us every Monday evening (except holidays)  from 7 to 8:30 (mdst). T
 his is a discussion group so dropping in is welcome. 
ATTACH;FMTTYPE=image/jpeg:https://calgarycsl.org/wp-content/uploads/2022/0
 9/attaining-spiritual-consciousness-2019-02-17.jpg
CATEGORIES:Discussion Group
END:VEVENT
BEGIN:VTIMEZONE
TZID:America/Edmonton
X-LIC-LOCATION:America/Edmonton
BEGIN:DAYLIGHT
DTSTART:20230312T030000
TZOFFSETFROM:-0700
TZOFFSETTO:-0600
TZNAME:MDT
END:DAYLIGHT
END:VTIMEZONE
END:VCALENDAR