BEGIN:VCALENDAR
VERSION:2.0
PRODID:-//wp-events-plugin.com//7.2.3.1//EN
TZID:America/Edmonton
X-WR-TIMEZONE:America/Edmonton
BEGIN:VEVENT
UID:2065@calgarycsl.org
DTSTART;TZID=America/Edmonton:20230403T190000
DTEND;TZID=America/Edmonton:20230403T203000
DTSTAMP:20230327T150720Z
URL:https://calgarycsl.org/events/consciousness-seekers-2-2023-04-03/
SUMMARY:Consciousness Seekers - Exercise Your Spiritual Curiosity
DESCRIPTION:Spiritual Practitioner\, Ron Hahn\, continues to facilitate thi
 s popular and informal discussion group called Consciousness Seekers on M
 onday evenings 7- 8:30 pm.\nContinuing to meet via Zoom: https://us02web.z
 oom.us/j/85965082549?pwd=MU85aGFYQTdxZWhISVZ1SUZkTzM3UT09    Password is
  883491\nThe group explores self-realization\, personal acceptance\, purpo
 se\, and general understanding of “why life works the way it does” by 
 examining our existing belief systems.\nMeditation\, examination of variou
 s spiritual philosophies\, readings and texts are used to promote discussi
 on among the participants\, who are welcome to actively join in or simply 
 listen and consider.\nThe book we are using to lead in discussion to start
  this year is called “Being Myself” by Rupert Spira\nFor everyone fro
 m teens to ministers\, newcomers to seasoned members. No registration or p
 reparation is needed to participate. Drop in as you like. It’s free to p
 articipate – love offerings are appreciated.\nJoin us every Monday eveni
 ng (except holidays)!
ATTACH;FMTTYPE=image/jpeg:https://calgarycsl.org/wp-content/uploads/2022/0
 9/attaining-spiritual-consciousness-2019-02-17.jpg
CATEGORIES:Discussion Group
END:VEVENT
BEGIN:VTIMEZONE
TZID:America/Edmonton
X-LIC-LOCATION:America/Edmonton
BEGIN:DAYLIGHT
DTSTART:20230312T030000
TZOFFSETFROM:-0700
TZOFFSETTO:-0600
TZNAME:MDT
END:DAYLIGHT
END:VTIMEZONE
END:VCALENDAR