BEGIN:VCALENDAR
VERSION:2.0
PRODID:-//wp-events-plugin.com//7.2.3.1//EN
TZID:America/Edmonton
X-WR-TIMEZONE:America/Edmonton
BEGIN:VEVENT
UID:2693@calgarycsl.org
DTSTART;TZID=America/Edmonton:20231004T183000
DTEND;TZID=America/Edmonton:20231004T210000
DTSTAMP:20230529T185345Z
URL:https://calgarycsl.org/events/consciousness-and-the-creative-process-2
 023-10-04/
SUMMARY:Consciousness and the Creative Process
DESCRIPTION:Consciousness and the Creative Process\nThomas Troward’s book
 \, The Creative Process in the Individual\, provides the majority of the m
 aterial for this class. Troward was a master of bridging the inner world o
 f thoughts and the physical universe. Although the book may seem simple an
 d a quick read\, it contains profound messages and opportunities to deepen
  in the understanding of the Law\; and how to align with Universal princip
 les.\n\nTroward reasons from a point of view of the Universal principles\,
  showing how the principles can be applied to the future. He relies on the
  maxim that “principle is not bound by precedent\,” and by the premise
  that we are not only able — but also required — by the law of our own
  being\, to take a more active part in our personal evolution than has eve
 r occurred in the past.\n\nIn addition to Troward’s writing\, this cours
 e includes a deeper dive into the Creative Process\, including an understa
 nding of the different stages in the growth of consciousness. Ultimately\,
  with the result we open our minds and hearts\, and consciously create the
  life we desire.\n\nLength of Course: 6 Weeks\n\nAvailable In-Person\n\nC
 ost : $195\n\nSend E-Transfer to office@calgarycsl.org
ATTACH;FMTTYPE=image/jpeg:https://calgarycsl.org/wp-content/uploads/2023/0
 5/41YxPjRTnxL._SX320_BO1204203200_.jpg
CATEGORIES:Course
LOCATION:Calgary Centre for Spiritual Living\, 4411 Manitoba Rd SE\, Calgar
 y\, AB\, T2G 4B9\, Canada
X-APPLE-STRUCTURED-LOCATION;VALUE=URI;X-ADDRESS=4411 Manitoba Rd SE\, Calga
 ry\, AB\, T2G 4B9\, Canada;X-APPLE-RADIUS=100;X-TITLE=Calgary Centre for S
 piritual Living:geo:0,0
END:VEVENT
BEGIN:VTIMEZONE
TZID:America/Edmonton
X-LIC-LOCATION:America/Edmonton
BEGIN:DAYLIGHT
DTSTART:20230312T030000
TZOFFSETFROM:-0700
TZOFFSETTO:-0600
TZNAME:MDT
END:DAYLIGHT
END:VTIMEZONE
END:VCALENDAR