BEGIN:VCALENDAR
VERSION:2.0
PRODID:-//wp-events-plugin.com//7.2.3.1//EN
TZID:America/Edmonton
X-WR-TIMEZONE:America/Edmonton
BEGIN:VEVENT
UID:1678@calgarycsl.org
DTSTART;TZID=America/Edmonton:20220325T193000
DTEND;TZID=America/Edmonton:20220325T221500
DTSTAMP:20220215T231228Z
URL:https://calgarycsl.org/events/concert-pharis-and-romero/
SUMMARY:Concert - Pharis and Romero
DESCRIPTION:
CATEGORIES:External Public
END:VEVENT
BEGIN:VTIMEZONE
TZID:America/Edmonton
X-LIC-LOCATION:America/Edmonton
BEGIN:DAYLIGHT
DTSTART:20220313T030000
TZOFFSETFROM:-0700
TZOFFSETTO:-0600
TZNAME:MDT
END:DAYLIGHT
END:VTIMEZONE
END:VCALENDAR