BEGIN:VCALENDAR
VERSION:2.0
PRODID:-//wp-events-plugin.com//7.2.3.1//EN
TZID:America/Edmonton
X-WR-TIMEZONE:America/Edmonton
BEGIN:VEVENT
UID:4284@calgarycsl.org
DTSTART;TZID=America/Edmonton:20241126T193000
DTEND;TZID=America/Edmonton:20241126T220000
DTSTAMP:20241120T182540Z
URL:https://calgarycsl.org/events/concert-james-hill-anne-janelle/
SUMMARY:The Midnight Clear Concert - James Hill & Anne Janelle
DESCRIPTION:This is going to be a great show!\n\nCome and see The Midnight 
 Clear live! Join James and Anne for a concert full of sparkling carols and
  original winter songs to make the season bright. For this concert\, the d
 uo will be joined by the Lily String Quartet. ✨\n\nTickets at :\n\nhttps
 ://www.jamesandanne.com/event-details/the-midnight-clear-calgary-ab
CATEGORIES:Concert,External Public
END:VEVENT
BEGIN:VTIMEZONE
TZID:America/Edmonton
X-LIC-LOCATION:America/Edmonton
BEGIN:STANDARD
DTSTART:20241103T010000
TZOFFSETFROM:-0600
TZOFFSETTO:-0700
TZNAME:MST
END:STANDARD
END:VTIMEZONE
END:VCALENDAR