BEGIN:VCALENDAR
VERSION:2.0
PRODID:-//wp-events-plugin.com//7.2.3.1//EN
TZID:America/Edmonton
X-WR-TIMEZONE:America/Edmonton
BEGIN:VEVENT
UID:2009@calgarycsl.org
DTSTART;TZID=America/Edmonton:20220827T103000
DTEND;TZID=America/Edmonton:20220827T120000
DTSTAMP:20220823T143459Z
URL:https://calgarycsl.org/events/community-pride-t-shirt-party/
SUMMARY:Community PRIDE T-Shirt Party
DESCRIPTION:On August 27 from 10:30 - noon we will get together for some t-
 shirt making fun to get our shirts ready for the parade.\n\nBring a white 
 100% cotton t-shirt as they  work the best and be sure to wash and dry it
  before the event.\n\nAll supplies for the art will be supplied.\n\n&nbsp\
 ;
ATTACH;FMTTYPE=image/jpeg:https://calgarycsl.org/wp-content/uploads/2022/0
 8/PRIDE-T-Shirt-Party.jpg
CATEGORIES:Social
END:VEVENT
BEGIN:VTIMEZONE
TZID:America/Edmonton
X-LIC-LOCATION:America/Edmonton
BEGIN:DAYLIGHT
DTSTART:20220313T030000
TZOFFSETFROM:-0700
TZOFFSETTO:-0600
TZNAME:MDT
END:DAYLIGHT
END:VTIMEZONE
END:VCALENDAR