BEGIN:VCALENDAR
VERSION:2.0
PRODID:-//wp-events-plugin.com//7.2.3.1//EN
TZID:America/Edmonton
X-WR-TIMEZONE:America/Edmonton
BEGIN:VEVENT
UID:3408@calgarycsl.org
DTSTART;TZID=America/Edmonton:20260426T130000
DTEND;TZID=America/Edmonton:20260426T143000
DTSTAMP:20260325T160657Z
URL:https://calgarycsl.org/events/community-potluck/
SUMMARY:Community Potluck!
DESCRIPTION:WHO? - Everyone who is part of our community\, and bring a frie
 nd too!\n\nWHEN? - April 26 right after the AGM.  So.... around 1:00 PM\n
 \nWHERE? - Calgary Centre for Spiritual Living. 4411 Manitoba Road SE\n\nW
 HAT? - Bring a food item and let's break bread together in community and f
 riendship!
ATTACH;FMTTYPE=image/jpeg:https://calgarycsl.org/wp-content/uploads/2022/1
 0/20220813_114524a-scaled.jpg
CATEGORIES:Social
END:VEVENT
BEGIN:VTIMEZONE
TZID:America/Edmonton
X-LIC-LOCATION:America/Edmonton
BEGIN:DAYLIGHT
DTSTART:20260308T030000
TZOFFSETFROM:-0700
TZOFFSETTO:-0600
TZNAME:MDT
END:DAYLIGHT
END:VTIMEZONE
END:VCALENDAR