BEGIN:VCALENDAR
VERSION:2.0
PRODID:-//wp-events-plugin.com//7.2.3.1//EN
TZID:America/Edmonton
X-WR-TIMEZONE:America/Edmonton
BEGIN:VEVENT
UID:5161@calgarycsl.org
DTSTART;TZID=America/Edmonton:20251220T170000
DTEND;TZID=America/Edmonton:20251220T210000
DTSTAMP:20251016T190217Z
URL:https://calgarycsl.org/events/comedy-event/
SUMMARY:Comedy Event
DESCRIPTION:Private Event
CATEGORIES:External Private
END:VEVENT
BEGIN:VTIMEZONE
TZID:America/Edmonton
X-LIC-LOCATION:America/Edmonton
BEGIN:STANDARD
DTSTART:20251102T010000
TZOFFSETFROM:-0600
TZOFFSETTO:-0700
TZNAME:MST
END:STANDARD
END:VTIMEZONE
END:VCALENDAR