BEGIN:VCALENDAR
VERSION:2.0
PRODID:-//wp-events-plugin.com//7.2.3.1//EN
TZID:America/Edmonton
X-WR-TIMEZONE:America/Edmonton
BEGIN:VEVENT
UID:3726@calgarycsl.org
DTSTART;TZID=America/Edmonton:20260128T120000
DTEND;TZID=America/Edmonton:20260128T130000
DTSTAMP:20251209T184516Z
URL:https://calgarycsl.org/events/coffee-with-dr-pat-2026-01-28/
SUMMARY:Coffee with Dr. Pat
DESCRIPTION:Spiritual Director\, Dr. Pat Campbell\, invites you to join her
  for an informal chat and spiritual practice.\nWednesdays at noon via Zoom
  video conferencing.\nhttps://us02web.zoom.us/j/83385665690?pwd=bHhicXZnQ0
 FMZEFiOU9HZFozZWY1QT09\nEmail the office for the password if required
ATTACH;FMTTYPE=image/jpeg:https://calgarycsl.org/wp-content/uploads/2021/0
 1/Coffee-w-DrPat.png
CATEGORIES:Social
END:VEVENT
BEGIN:VTIMEZONE
TZID:America/Edmonton
X-LIC-LOCATION:America/Edmonton
BEGIN:STANDARD
DTSTART:20251102T010000
TZOFFSETFROM:-0600
TZOFFSETTO:-0700
TZNAME:MST
END:STANDARD
END:VTIMEZONE
END:VCALENDAR