BEGIN:VCALENDAR
VERSION:2.0
PRODID:-//wp-events-plugin.com//7.2.3.1//EN
TZID:America/Edmonton
X-WR-TIMEZONE:America/Edmonton
BEGIN:VEVENT
UID:2164@calgarycsl.org
DTSTART;TZID=America/Edmonton;VALUE=DATE:20221130
DTEND;TZID=America/Edmonton;VALUE=DATE:20221205
DTSTAMP:20221116T163850Z
URL:https://calgarycsl.org/events/classroom-rental/
SUMMARY:Classroom Rental
DESCRIPTION:All day except Sunday December 4\, where starts at 1:00 PM.
CATEGORIES:External Private
END:VEVENT
BEGIN:VTIMEZONE
TZID:America/Edmonton
X-LIC-LOCATION:America/Edmonton
BEGIN:STANDARD
DTSTART:20221106T010000
TZOFFSETFROM:-0600
TZOFFSETTO:-0700
TZNAME:MST
END:STANDARD
END:VTIMEZONE
END:VCALENDAR