BEGIN:VCALENDAR
VERSION:2.0
PRODID:-//wp-events-plugin.com//7.2.3.1//EN
TZID:America/Edmonton
X-WR-TIMEZONE:America/Edmonton
BEGIN:VEVENT
UID:5421@calgarycsl.org
DTSTART;TZID=America/Edmonton:20260418T090000
DTEND;TZID=America/Edmonton:20260418T170000
DTSTAMP:20260126T164141Z
URL:https://calgarycsl.org/events/classroom-rental-2/
SUMMARY:Classroom Rental
DESCRIPTION:9 - 5
CATEGORIES:External Private
END:VEVENT
BEGIN:VTIMEZONE
TZID:America/Edmonton
X-LIC-LOCATION:America/Edmonton
BEGIN:DAYLIGHT
DTSTART:20260308T030000
TZOFFSETFROM:-0700
TZOFFSETTO:-0600
TZNAME:MDT
END:DAYLIGHT
END:VTIMEZONE
END:VCALENDAR