BEGIN:VCALENDAR
VERSION:2.0
PRODID:-//wp-events-plugin.com//7.2.3.1//EN
TZID:America/Edmonton
X-WR-TIMEZONE:America/Edmonton
BEGIN:VEVENT
UID:975@calgarycsl.org
DTSTART:20201225T190000Z
DTEND:20201225T203000Z
DTSTAMP:20201211T173855Z
URL:https://calgarycsl.org/events/christmas-day-community-call/
SUMMARY:Christmas Day Community Call
DESCRIPTION:Christmas Day Community Call\,\n\nDetails to follow.
CATEGORIES:More CCSL Events
END:VEVENT
END:VCALENDAR