BEGIN:VCALENDAR
VERSION:2.0
PRODID:-//wp-events-plugin.com//7.2.3.1//EN
TZID:America/Edmonton
X-WR-TIMEZONE:America/Edmonton
BEGIN:VEVENT
UID:5425@calgarycsl.org
DTSTART;TZID=America/Edmonton:20260413T183000
DTEND;TZID=America/Edmonton:20260413T210000
DTSTAMP:20260210T175345Z
URL:https://calgarycsl.org/events/change-your-thinking-change-your-life-st
 arts-april-13-2026-04-13/
SUMMARY:CHANGE YOUR THINKING\, CHANGE YOUR LIFE! Starts April 13
DESCRIPTION:5 week course starting April 13\nFacilitated by Rev. Lesley McN
 amara\n$165\nChange Your Thinking Change Your Life is a course that empow
 ers students to apply Science of Mind principles\, practices\, and methods
  in three crucial aspects of life. Through lectures\, experiential exercis
 es\, and interactive discussions\, participants will gain practical tools 
 to cultivate thriving relationships\, unlock abundance and prosperity\, an
 d promote overall well-being. This course offers a comprehensive understan
 ding of how to integrate Science of Mind teachings into daily life in a wa
 y that creates more awareness and space for practical application and tran
 sformation.\nNo textbook required\n\nSend your e-transfer to office@calgar
 ycsl.org or click here to pay online
ATTACH;FMTTYPE=image/jpeg:https://calgarycsl.org/wp-content/uploads/2026/0
 2/Change-Your-Thinking-Change-Your-Life-400x400-1.png
CATEGORIES:Course
LOCATION:Calgary Centre for Spiritual Living\, 4411 Manitoba Rd SE\, Calgar
 y\, AB\, T2G 4B9\, Canada
X-APPLE-STRUCTURED-LOCATION;VALUE=URI;X-ADDRESS=4411 Manitoba Rd SE\, Calga
 ry\, AB\, T2G 4B9\, Canada;X-APPLE-RADIUS=100;X-TITLE=Calgary Centre for S
 piritual Living:geo:0,0
END:VEVENT
BEGIN:VTIMEZONE
TZID:America/Edmonton
X-LIC-LOCATION:America/Edmonton
BEGIN:DAYLIGHT
DTSTART:20260308T030000
TZOFFSETFROM:-0700
TZOFFSETTO:-0600
TZNAME:MDT
END:DAYLIGHT
END:VTIMEZONE
END:VCALENDAR