BEGIN:VCALENDAR
VERSION:2.0
PRODID:-//wp-events-plugin.com//7.2.3.1//EN
TZID:America/Edmonton
X-WR-TIMEZONE:America/Edmonton
BEGIN:VEVENT
UID:5431@calgarycsl.org
DTSTART;TZID=America/Edmonton:20260509T090000
DTEND;TZID=America/Edmonton:20260509T143000
DTSTAMP:20260407T200634Z
URL:https://calgarycsl.org/events/centre-tour-by-shia-ismaili-interpretati
 on-of-islam/
SUMMARY:PossABilities
DESCRIPTION:
CATEGORIES:External Private
END:VEVENT
BEGIN:VTIMEZONE
TZID:America/Edmonton
X-LIC-LOCATION:America/Edmonton
BEGIN:DAYLIGHT
DTSTART:20260308T030000
TZOFFSETFROM:-0700
TZOFFSETTO:-0600
TZNAME:MDT
END:DAYLIGHT
END:VTIMEZONE
END:VCALENDAR