BEGIN:VCALENDAR
VERSION:2.0
PRODID:-//wp-events-plugin.com//7.2.3.1//EN
TZID:America/Edmonton
X-WR-TIMEZONE:America/Edmonton
BEGIN:VEVENT
UID:5493@calgarycsl.org
DTSTART:20260914T070000Z
DTEND:20260914T070000Z
DTSTAMP:20260423T162520Z
URL:https://calgarycsl.org/events/ccsl-golf-tournament/
SUMMARY:CCSL Golf Tournament
DESCRIPTION:Click here to check out the details!\n
ATTACH;FMTTYPE=image/jpeg:https://calgarycsl.org/wp-content/uploads/2026/0
 4/photo-1592919505780-303950717480.jpeg
CATEGORIES:More CCSL Events,Social
END:VEVENT
END:VCALENDAR