BEGIN:VCALENDAR
VERSION:2.0
PRODID:-//wp-events-plugin.com//7.2.3.1//EN
TZID:America/Edmonton
X-WR-TIMEZONE:America/Edmonton
BEGIN:VEVENT
UID:4860@calgarycsl.org
DTSTART;TZID=America/Edmonton:20250404T190000
DTEND;TZID=America/Edmonton:20250404T220000
DTSTAMP:20250317T143757Z
URL:https://calgarycsl.org/events/ccsl-games-night/
SUMMARY:CCSL Games Night!
DESCRIPTION:We'll have multiple tables set up with various games at each ta
 ble and you can move around to play whichever games appeal to you.\n\nBrin
 g a snack/appie to share and a game if you like.\n7:00 - 10:00 PM
ATTACH;FMTTYPE=image/jpeg:https://calgarycsl.org/wp-content/uploads/2025/0
 3/F54UPD3O7FGKBB4EY272MUHVYE.jpg
CATEGORIES:Social
END:VEVENT
BEGIN:VTIMEZONE
TZID:America/Edmonton
X-LIC-LOCATION:America/Edmonton
BEGIN:DAYLIGHT
DTSTART:20250309T030000
TZOFFSETFROM:-0700
TZOFFSETTO:-0600
TZNAME:MDT
END:DAYLIGHT
END:VTIMEZONE
END:VCALENDAR