BEGIN:VCALENDAR
VERSION:2.0
PRODID:-//wp-events-plugin.com//7.2.3.1//EN
TZID:America/Edmonton
X-WR-TIMEZONE:America/Edmonton
BEGIN:VEVENT
UID:5160@calgarycsl.org
DTSTART:20251018T013000Z
DTEND:20251018T040000Z
DTSTAMP:20251008T155739Z
URL:https://calgarycsl.org/events/ccsl-games-night-3/
SUMMARY:CCSL Games Night!
DESCRIPTION:\nFriday\, October 17th\n6:30 pm -8:30 pm\n\n\nEnjoy a fun fill
 ed evening with fellow games players \nThis is not limited to members of 
 CCSL\, so invite your friends and family\nIf you have a favourite game\, f
 eel free to bring it \nA $5 love offering to support the Calgary Food Ban
 k is requested\,  though not required\nBring a snack to share
ATTACH;FMTTYPE=image/jpeg:https://calgarycsl.org/wp-content/uploads/2025/0
 3/F54UPD3O7FGKBB4EY272MUHVYE.jpg
CATEGORIES:Social
END:VEVENT
END:VCALENDAR