BEGIN:VCALENDAR
VERSION:2.0
PRODID:-//wp-events-plugin.com//7.2.3.1//EN
TZID:America/Edmonton
X-WR-TIMEZONE:America/Edmonton
BEGIN:VEVENT
UID:5492@calgarycsl.org
DTSTART:20260502T150000Z
DTEND:20260502T213000Z
DTSTAMP:20260422T201859Z
URL:https://calgarycsl.org/events/carpet-cleaning-morning-to-afternoon/
SUMMARY:Carpet Cleaning morning to afternoon
DESCRIPTION:
CATEGORIES:External Private
END:VEVENT
END:VCALENDAR