BEGIN:VCALENDAR
VERSION:2.0
PRODID:-//wp-events-plugin.com//7.2.3.1//EN
TZID:America/Edmonton
X-WR-TIMEZONE:America/Edmonton
BEGIN:VEVENT
UID:1430@calgarycsl.org
DTSTART;TZID=America/Edmonton:20211124T183000
DTEND;TZID=America/Edmonton:20211124T203000
DTSTAMP:20210910T163533Z
URL:https://calgarycsl.org/events/calling-in-the-one-2021-11-24/
SUMMARY:Calling in the One
DESCRIPTION:7 Weeks to Attract the Love of Your Life.\n\nFacilitated by Rev
 . Lesley McNamara.\n\nWednesday\, October 13 – November 24\, 6:30 – 8:
 30 via Zoom.\n\nCourse fee: $105 plus the book.\n\nRegister by sending an 
 e-transfer to office@calgarycsl.org and put THE ONE in the memo line as 
 well as your email address.\n\nRead week one before the first meeting.
ATTACH;FMTTYPE=image/jpeg:https://calgarycsl.org/wp-content/uploads/2021/0
 9/birds-4288121_1280-1.png
CATEGORIES:Course
END:VEVENT
BEGIN:VTIMEZONE
TZID:America/Edmonton
X-LIC-LOCATION:America/Edmonton
BEGIN:STANDARD
DTSTART:20211107T010000
TZOFFSETFROM:-0600
TZOFFSETTO:-0700
TZNAME:MST
END:STANDARD
END:VTIMEZONE
END:VCALENDAR