BEGIN:VCALENDAR
VERSION:2.0
PRODID:-//wp-events-plugin.com//7.2.3.1//EN
TZID:America/Edmonton
X-WR-TIMEZONE:America/Edmonton
BEGIN:VEVENT
UID:2429@calgarycsl.org
DTSTART;TZID=America/Edmonton:20230305T133000
DTEND;TZID=America/Edmonton:20230305T150000
DTSTAMP:20230206T204948Z
URL:https://calgarycsl.org/events/calgary-csl-community-drumming-event/
SUMMARY:Community Drumming Circle
DESCRIPTION:"Drumming is an evolutionary tool that has been at the center o
 f the human experience – WHY? Because of our Heart Beat. Drumming feels 
 like coming home to ourselves. You get to Choose Your OWN Adventure!\nLoud
  or soft. Fast or Steady. Complex or Simple. The pursuit of balance is the
  key! In the moment\, you can choose between: Actively playing/creating/da
 ncing… or… Simply sitting\, feeling\, and noticing: Mindfully.\nThis i
 s a space that is free from judgement – offering the choice to step outs
 ide of your comfort zone. We incorporate moments of active meditation\, co
 nscious breathing\, and gentle movements."\nBe at the Centre at 1:30 PM to
  enjoy this amazing experience.  $15.00 per person.  Bring your friends!
 \n\nSend your e-transfer to office@calgarycsl.org\n\nor [wpecpp id=15853]\
 n\n&nbsp\;
ATTACH;FMTTYPE=image/jpeg:https://calgarycsl.org/wp-content/uploads/2023/0
 1/ICDC_4_Photos.jpg
CATEGORIES:More CCSL Events,Social
END:VEVENT
BEGIN:VTIMEZONE
TZID:America/Edmonton
X-LIC-LOCATION:America/Edmonton
BEGIN:STANDARD
DTSTART:20221106T010000
TZOFFSETFROM:-0600
TZOFFSETTO:-0700
TZNAME:MST
END:STANDARD
END:VTIMEZONE
END:VCALENDAR