BEGIN:VCALENDAR
VERSION:2.0
PRODID:-//wp-events-plugin.com//7.2.3.1//EN
TZID:America/Edmonton
X-WR-TIMEZONE:America/Edmonton
BEGIN:VEVENT
UID:5229@calgarycsl.org
DTSTART:20260131T150000Z
DTEND:20260131T230000Z
DTSTAMP:20251118T204814Z
URL:https://calgarycsl.org/events/building-booked/
SUMMARY:Building Booked
DESCRIPTION:
CATEGORIES:External Private
END:VEVENT
END:VCALENDAR