BEGIN:VCALENDAR
VERSION:2.0
PRODID:-//wp-events-plugin.com//7.2.3.1//EN
TZID:America/Edmonton
X-WR-TIMEZONE:America/Edmonton
BEGIN:VEVENT
UID:4873@calgarycsl.org
DTSTART:20250620T160000Z
DTEND:20250620T190000Z
DTSTAMP:20250611T165656Z
URL:https://calgarycsl.org/events/board-room/
SUMMARY:Board Room
DESCRIPTION:9 AM - noon
CATEGORIES:External Private
END:VEVENT
END:VCALENDAR