BEGIN:VCALENDAR
VERSION:2.0
PRODID:-//wp-events-plugin.com//7.2.3.1//EN
TZID:America/Edmonton
X-WR-TIMEZONE:America/Edmonton
BEGIN:VEVENT
UID:3744@calgarycsl.org
DTSTART;TZID=America/Edmonton:20250613T063000
DTEND;TZID=America/Edmonton:20250613T103000
DTSTAMP:20250605T182106Z
URL:https://calgarycsl.org/events/birding-with-lance/
SUMMARY:Birding With Lance
DESCRIPTION:Friday\, June 13 at 6:30 AM\nWe will meet at the Centre parking
  lot and leave by 6:45 to drive to Frank Lake (10 minutes East of High Riv
 er)\nThis is a casual gathering where people can arrive directly at Frank 
 Lake (7:30 AM) instead.\nEveryone is welcome to stay for as little or as l
 ong as they like.\nA POTLUCK brunch gathering afterwards in High River is 
 also planned for those interested (around 10:00 AM)\nBring : Binoculars\, 
 camera\, hat\, sunscreen\, bugspray\, and an interest in learning random f
 acts about birds and their habitat.
ATTACH;FMTTYPE=image/jpeg:https://calgarycsl.org/wp-content/uploads/2024/0
 6/93d6cebd-db13-48a5-a28b-5df241cafd50.jpg
CATEGORIES:Social
END:VEVENT
BEGIN:VTIMEZONE
TZID:America/Edmonton
X-LIC-LOCATION:America/Edmonton
BEGIN:DAYLIGHT
DTSTART:20250309T030000
TZOFFSETFROM:-0700
TZOFFSETTO:-0600
TZNAME:MDT
END:DAYLIGHT
END:VTIMEZONE
END:VCALENDAR