BEGIN:VCALENDAR
VERSION:2.0
PRODID:-//wp-events-plugin.com//7.2.3.1//EN
TZID:America/Edmonton
X-WR-TIMEZONE:America/Edmonton
BEGIN:VEVENT
UID:5432@calgarycsl.org
DTSTART;TZID=America/Edmonton:20260411T133000
DTEND;TZID=America/Edmonton:20260411T170000
DTSTAMP:20260224T193316Z
URL:https://calgarycsl.org/events/bhakti-marga-satsang-kirtan-q-a-april-11
 th-2026/
SUMMARY:Bhakti Marga Satsang\, Kirtan\, Q/A April 11th 2026
DESCRIPTION:Classroom
CATEGORIES:External Private
END:VEVENT
BEGIN:VTIMEZONE
TZID:America/Edmonton
X-LIC-LOCATION:America/Edmonton
BEGIN:DAYLIGHT
DTSTART:20260308T030000
TZOFFSETFROM:-0700
TZOFFSETTO:-0600
TZNAME:MDT
END:DAYLIGHT
END:VTIMEZONE
END:VCALENDAR