BEGIN:VCALENDAR
VERSION:2.0
PRODID:-//wp-events-plugin.com//7.2.3.1//EN
TZID:America/Edmonton
X-WR-TIMEZONE:America/Edmonton
BEGIN:VEVENT
UID:4872@calgarycsl.org
DTSTART;TZID=America/Edmonton:20250803T123000
DTEND;TZID=America/Edmonton:20250803T153000
DTSTAMP:20250723T180549Z
URL:https://calgarycsl.org/events/august-3-workshop-break-the-chain-of-pai
 n/
SUMMARY:August 3 Workshop - "Break the Chain of Pain"
DESCRIPTION:This transformative workshop goes beyond surface-level healing 
 and dives deep into the emotional and spiritual roots of resentment\, sham
 e\, and self-blame. Through guided practices\, honest reflection\, and rad
 ical compassion\, you’ll learn how to release the pain you've been carry
 ing—so you can reclaim your power\, rewrite your story\, and walk forwar
 d unchained toward your FREEDOM.\n\nFacilitated by REV MICHELLE WADLEIGH\n
 \nSunday\, August 3\, 12:30 – 3:30\nWorkshop fee: $25
ATTACH;FMTTYPE=image/jpeg:https://calgarycsl.org/wp-content/uploads/2022/0
 4/278810779_4915337951853794_5006389617810405169_n.jpg
END:VEVENT
BEGIN:VTIMEZONE
TZID:America/Edmonton
X-LIC-LOCATION:America/Edmonton
BEGIN:DAYLIGHT
DTSTART:20250309T030000
TZOFFSETFROM:-0700
TZOFFSETTO:-0600
TZNAME:MDT
END:DAYLIGHT
END:VTIMEZONE
END:VCALENDAR