BEGIN:VCALENDAR
VERSION:2.0
PRODID:-//wp-events-plugin.com//7.2.3.1//EN
TZID:America/Edmonton
X-WR-TIMEZONE:America/Edmonton
BEGIN:VEVENT
UID:5097@calgarycsl.org
DTSTART;TZID=America/Edmonton:20250824T123000
DTEND;TZID=America/Edmonton:20250824T150000
DTSTAMP:20250811T164513Z
URL:https://calgarycsl.org/events/august-24-how-to-get-out-of-your-own-way
 /
SUMMARY:August 24 - How to Get Out of Your Own Way
DESCRIPTION:August 24 Workshop with Rev Heather Clark\n\nHave you ever felt
  a bit (or a lot) like you were at odds with yourself? Goals and dreams no
 t really aligning with your day to day?\n\nYou are not alone! In this work
 shop Rev Heather will guide you to develop a warm and wonderful relationsh
 ip with yourself as you are moved toward your cherished dreams.\n\n12:30 -
  3:00 PM\n\n$20 e-transfer to office@calgarycsl.org
ATTACH;FMTTYPE=image/jpeg:https://calgarycsl.org/wp-content/uploads/2022/0
 7/292999849_5146652168722370_7848787779617586703_n.jpg
CATEGORIES:Workshop
END:VEVENT
BEGIN:VTIMEZONE
TZID:America/Edmonton
X-LIC-LOCATION:America/Edmonton
BEGIN:DAYLIGHT
DTSTART:20250309T030000
TZOFFSETFROM:-0700
TZOFFSETTO:-0600
TZNAME:MDT
END:DAYLIGHT
END:VTIMEZONE
END:VCALENDAR