BEGIN:VCALENDAR
VERSION:2.0
PRODID:-//wp-events-plugin.com//7.2.3.1//EN
TZID:America/Edmonton
X-WR-TIMEZONE:America/Edmonton
BEGIN:VEVENT
UID:5388@calgarycsl.org
DTSTART;TZID=America/Edmonton:20251231T050000
DTEND;TZID=America/Edmonton:20251231T050000
DTSTAMP:20251216T180745Z
URL:https://calgarycsl.org/events/annual-world-peace-meditation-2/
SUMMARY:Annual World Peace Meditation
DESCRIPTION:Tuesday\, December 31\, 2025\, 5:00 AM MST\n\nThousands of peop
 le from all over the world gather on this day for the most important medit
 ation of the year.\n\nWe will gather together to meditate and set our hear
 ts\, minds and souls on PEACE.\n\n(yes\, 5:00 AM)
ATTACH;FMTTYPE=image/jpeg:https://calgarycsl.org/wp-content/uploads/2020/1
 2/World-Peace-2024.jpg
CATEGORIES:Meditation
END:VEVENT
BEGIN:VTIMEZONE
TZID:America/Edmonton
X-LIC-LOCATION:America/Edmonton
BEGIN:STANDARD
DTSTART:20251102T010000
TZOFFSETFROM:-0600
TZOFFSETTO:-0700
TZNAME:MST
END:STANDARD
END:VTIMEZONE
END:VCALENDAR