BEGIN:VCALENDAR
VERSION:2.0
PRODID:-//wp-events-plugin.com//7.2.3.1//EN
TZID:America/Edmonton
X-WR-TIMEZONE:America/Edmonton
BEGIN:VEVENT
UID:2424@calgarycsl.org
DTSTART;TZID=America/Edmonton:20230430T120000
DTEND;TZID=America/Edmonton:20230430T133000
DTSTAMP:20230111T174941Z
URL:https://calgarycsl.org/events/annual-general-meeting-of-the-members/
SUMMARY:Annual General Meeting of the Members
DESCRIPTION:Calgary CSL AGM\n\nNoon - 1:30 PM
ATTACH;FMTTYPE=image/jpeg:https://calgarycsl.org/wp-content/uploads/2021/0
 7/jul-7.png
CATEGORIES:Meeting
END:VEVENT
BEGIN:VTIMEZONE
TZID:America/Edmonton
X-LIC-LOCATION:America/Edmonton
BEGIN:DAYLIGHT
DTSTART:20230312T030000
TZOFFSETFROM:-0700
TZOFFSETTO:-0600
TZNAME:MDT
END:DAYLIGHT
END:VTIMEZONE
END:VCALENDAR