BEGIN:VCALENDAR
VERSION:2.0
PRODID:-//wp-events-plugin.com//7.2.3.1//EN
TZID:America/Edmonton
X-WR-TIMEZONE:America/Edmonton
BEGIN:VEVENT
UID:2004@calgarycsl.org
DTSTART;TZID=America/Edmonton:20250927T200000
DTEND;TZID=America/Edmonton:20250927T220000
DTSTAMP:20250913T201543Z
URL:https://calgarycsl.org/events/amy-bishop/
SUMMARY:Amy Bishop!
DESCRIPTION:September 27th\nAMY BISHOP BRINGS HER SONGS AND STORIES\n\n$30 
 via e-transfer to office@calgarycsl.org\n\nDoors open 7:30 PM and concert 
 starts 8:00 PM\n\nClick here to purchase via credit card now
ATTACH;FMTTYPE=image/jpeg:https://calgarycsl.org/wp-content/uploads/2020/0
 3/AmyBishopsunglasses-scaled.jpg
CATEGORIES:Concert
END:VEVENT
BEGIN:VTIMEZONE
TZID:America/Edmonton
X-LIC-LOCATION:America/Edmonton
BEGIN:DAYLIGHT
DTSTART:20250309T030000
TZOFFSETFROM:-0700
TZOFFSETTO:-0600
TZNAME:MDT
END:DAYLIGHT
END:VTIMEZONE
END:VCALENDAR