BEGIN:VCALENDAR
VERSION:2.0
PRODID:-//wp-events-plugin.com//7.2.3.1//EN
TZID:America/Edmonton
X-WR-TIMEZONE:America/Edmonton
BEGIN:VEVENT
UID:2090@calgarycsl.org
DTSTART;TZID=America/Edmonton:20221209T193000
DTEND;TZID=America/Edmonton:20221209T221500
DTSTAMP:20221208T185821Z
URL:https://calgarycsl.org/events/amy-bishop-songs-stories-christmas-editi
 on/
SUMMARY:Amy Bishop "Songs & Stories" - Christmas Edition
DESCRIPTION:December 9\n\nPresale ticket price only $25 until November 20 (
 afterwards $30)\nSOLD OUT HERE\n(a few tickets left on Eventbrite - click 
 here)\nJoin Amy for this intimate and funny evening with amazing music as 
 she brings in the Holiday Season like only she can.\n\nDoors open at 7:30\
 , concert begins at 8:00.
ATTACH;FMTTYPE=image/jpeg:https://calgarycsl.org/wp-content/uploads/2020/0
 3/amybishopwhite-scaled-e1586746708664.jpg
CATEGORIES:Concert
END:VEVENT
BEGIN:VTIMEZONE
TZID:America/Edmonton
X-LIC-LOCATION:America/Edmonton
BEGIN:STANDARD
DTSTART:20221106T010000
TZOFFSETFROM:-0600
TZOFFSETTO:-0700
TZNAME:MST
END:STANDARD
END:VTIMEZONE
END:VCALENDAR