BEGIN:VCALENDAR
VERSION:2.0
PRODID:-//wp-events-plugin.com//7.2.3.1//EN
TZID:America/Edmonton
X-WR-TIMEZONE:America/Edmonton
BEGIN:VEVENT
UID:4324@calgarycsl.org
DTSTART;TZID=America/Edmonton:20250126T123000
DTEND;TZID=America/Edmonton:20250126T140000
DTSTAMP:20250104T151201Z
URL:https://calgarycsl.org/events/amplifying-your-divine-presence/
SUMMARY:Amplifying Your Divine Presence
DESCRIPTION:With Practitioner Fran Watson\n\n\nJanuary 26\, 2025 from 12:30
  - 2 pm\n\n\n\nIn this workshop you will learn two simple practices that w
 ill allow you to embody and express your Divine Energy so you can make a p
 ositive impact wherever you go.\n\nAnd you will have fun. \n\nSuggested Lo
 ve Offering $20\n\nRegister by e-transfer (office@calgarycsl.org)\, pay at
  the Soul Shop\, or bring cash that day. \n\nBring a lunch or go for a qui
 ck bite before returning to the Centre for the Workshop\n\n
ATTACH;FMTTYPE=image/jpeg:https://calgarycsl.org/wp-content/uploads/2025/0
 1/alexander-grey-wx3JOq0Xbh4-unsplash-1-scaled.jpg
CATEGORIES:Workshop
END:VEVENT
BEGIN:VTIMEZONE
TZID:America/Edmonton
X-LIC-LOCATION:America/Edmonton
BEGIN:STANDARD
DTSTART:20241103T010000
TZOFFSETFROM:-0600
TZOFFSETTO:-0700
TZNAME:MST
END:STANDARD
END:VTIMEZONE
END:VCALENDAR