BEGIN:VCALENDAR
VERSION:2.0
PRODID:-//wp-events-plugin.com//7.2.3.1//EN
TZID:America/Edmonton
X-WR-TIMEZONE:America/Edmonton
BEGIN:VEVENT
UID:2677@calgarycsl.org
DTSTART;TZID=America/Edmonton:20230615T180000
DTEND;TZID=America/Edmonton:20230615T203000
DTSTAMP:20230524T130940Z
URL:https://calgarycsl.org/events/access-bars-trades-2023-06-15/
SUMMARY:“Access Bars Trades”
DESCRIPTION:\nWould you be willing to try something different if you knew w
 ithout a doubt it would create the shifts you are looking for in your life
 ? \n\n\nHave you heard about Access Bars?? \nDo you know about the magic  
 it can bring to your life?\n\n\nIf you don’t know what Access Bars is bu
 t you’re really curious and want to check it out… here’s your chance
 !\n\n\n\nJoin Jacqueline Lagrandeur and Lisa Dunlop on Thursday\, June 1st
  @6:30 pm in SE Calgary for a 45 min “mini session” for only $45.\n\n\
 n\nPractitioners are also welcome to join for this Gifting &amp\; Receivin
 g! $20\n\n\n\nCome see for yourself why this incredible technique is the f
 astest growing energy-shifting phenomenon people love for releasing physic
 al/mental blocks\, stress relief &amp\; facilitating greater ease in all a
 reas of your life!!\n\nEvery Thursday evening in June.\n\n6:30 - 8:30 PM
ATTACH;FMTTYPE=image/jpeg:https://calgarycsl.org/wp-content/uploads/2023/0
 5/347122212_538294458295406_7308721467451529706_n.jpg
CATEGORIES:Workshop
LOCATION:Calgary Centre for Spiritual Living\, 4411 Manitoba Rd SE\, Calgar
 y\, AB\, T2Y 3Z6\, Canada
X-APPLE-STRUCTURED-LOCATION;VALUE=URI;X-ADDRESS=4411 Manitoba Rd SE\, Calga
 ry\, AB\, T2Y 3Z6\, Canada;X-APPLE-RADIUS=100;X-TITLE=Calgary Centre for S
 piritual Living:geo:0,0
END:VEVENT
BEGIN:VTIMEZONE
TZID:America/Edmonton
X-LIC-LOCATION:America/Edmonton
BEGIN:DAYLIGHT
DTSTART:20230312T030000
TZOFFSETFROM:-0700
TZOFFSETTO:-0600
TZNAME:MDT
END:DAYLIGHT
END:VTIMEZONE
END:VCALENDAR