BEGIN:VCALENDAR
VERSION:2.0
PRODID:-//wp-events-plugin.com//7.2.3.1//EN
TZID:America/Edmonton
X-WR-TIMEZONE:America/Edmonton
BEGIN:VEVENT
UID:2457@calgarycsl.org
DTSTART;TZID=America/Edmonton:20230325T093000
DTEND;TZID=America/Edmonton:20230325T170000
DTSTAMP:20230228T153443Z
URL:https://calgarycsl.org/events/access-bars-1-day-class/
SUMMARY:ACCESS BARS® 1-Day Class
DESCRIPTION:Registration is open for an ACCESS BARS® One-Day Class trainin
 g – Saturday\, March 25th\, 2023 - 9:30 a.m. – 5:00 p.m. There are no 
 prerequisites! You can learn this with a family member\, friends\, or use 
 it professionally\, and by the end of the day\, you will be a certified pr
 actitioner who can gift this amazing process to others and receive money f
 or it. How does it get any better than that??\n\nAccess Bars® is an amazi
 ng tool used to empower yourself to change anything and everything you’d
  like to change in your life! It is 32 points on your head that\, when gen
 tly touched\, effortlessly and easily release the thoughts\, ideas\, belie
 fs\, emotions\, and considerations that stop you from creating a life you 
 love! It is a powerful and practical tool used by families\, wellness prac
 titioners\, schools\, businesses\, mental health professionals\, athletes\
 , veterans\, artists and many more.\n\nVisit: www.accessconsciousness.com/
 jacquelinelagrandeur for further details.\n\nContact: Jacqueline Lagrandeu
 r @ 403.463.0505 or email lepapillonhealing@gmail.com\n\nRegister here: ht
 tps://www.accessconsciousness.com/en/class-catalog/core-classes/bars/Acces
 s-Bars-Class_638119932779160886/
ATTACH;FMTTYPE=image/jpeg:https://calgarycsl.org/wp-content/uploads/2023/0
 2/Bars11.jpg
CATEGORIES:External Public
END:VEVENT
BEGIN:VTIMEZONE
TZID:America/Edmonton
X-LIC-LOCATION:America/Edmonton
BEGIN:DAYLIGHT
DTSTART:20230312T030000
TZOFFSETFROM:-0700
TZOFFSETTO:-0600
TZNAME:MDT
END:DAYLIGHT
END:VTIMEZONE
END:VCALENDAR