BEGIN:VCALENDAR
VERSION:2.0
PRODID:-//wp-events-plugin.com//7.2.3.1//EN
TZID:America/Edmonton
X-WR-TIMEZONE:America/Edmonton
BEGIN:VEVENT
UID:2460@calgarycsl.org
DTSTART;TZID=America/Edmonton:20230603T093000
DTEND;TZID=America/Edmonton:20230603T170000
DTSTAMP:20230228T153709Z
URL:https://calgarycsl.org/events/access-bars-1-day-class-4/
SUMMARY:ACCESS BARS® 1-Day Class
DESCRIPTION:Registration is open for an ACCESS BARS® One-Day Class trainin
 g – Saturday\,  9:30 a.m. – 5:00 p.m. There are no prerequisites! You
  can learn this with a family member\, friends\, or use it professionally\
 , and by the end of the day\, you will be a certified practitioner who can
  gift this amazing process to others and receive money for it. How does it
  get any better than that??\n\nAccess Bars® is an amazing tool used to em
 power yourself to change anything and everything you’d like to change in
  your life! It is 32 points on your head that\, when gently touched\, effo
 rtlessly and easily release the thoughts\, ideas\, beliefs\, emotions\, an
 d considerations that stop you from creating a life you love! It is a powe
 rful and practical tool used by families\, wellness practitioners\, school
 s\, businesses\, mental health professionals\, athletes\, veterans\, artis
 ts and many more.\n\nVisit: www.accessconsciousness.com/jacquelinelagrande
 ur for further details.\n\nContact: Jacqueline Lagrandeur @ 403.463.0505 o
 r email lepapillonhealing@gmail.com\n\nRegister here: https://www.accessco
 nsciousness.com/en/class-catalog/core-classes/bars/Access-Bars-Class_63811
 9932779160886/
ATTACH;FMTTYPE=image/jpeg:https://calgarycsl.org/wp-content/uploads/2023/0
 2/Bars11.jpg
CATEGORIES:External Public
END:VEVENT
BEGIN:VTIMEZONE
TZID:America/Edmonton
X-LIC-LOCATION:America/Edmonton
BEGIN:DAYLIGHT
DTSTART:20230312T030000
TZOFFSETFROM:-0700
TZOFFSETTO:-0600
TZNAME:MDT
END:DAYLIGHT
END:VTIMEZONE
END:VCALENDAR