BEGIN:VCALENDAR
VERSION:2.0
PRODID:-//wp-events-plugin.com//7.2.3.1//EN
TZID:America/Edmonton
X-WR-TIMEZONE:America/Edmonton
BEGIN:VEVENT
UID:3093@calgarycsl.org
DTSTART;TZID=America/Edmonton:20260426T120000
DTEND;TZID=America/Edmonton:20260426T130000
DTSTAMP:20260402T232910Z
URL:https://calgarycsl.org/events/2024-ccsl-agm/
SUMMARY:2026 CCSL AGM
DESCRIPTION:AGENDA FOR ANNUAL GENERAL\n\nMEETING OF MEMBERS\n\n&nbsp\;\n\nt
 o be held on April 26\, 2026 12:15 pm\n\n&nbsp\;\n\nOpening and Introducti
 on\n\nCall to Order at 12:15 pm                      
                                  Alana New
 ton\, President\n\nOpening blessing                    
                                      
            Dr. Pat Campbell\n\nVerification of Quorum     
                                      
                 Dawn Coppock\, Secretary\n\nIntroduction of
  Current Board                              
                   Alana Newton\, President\n\n&nbsp\;\n\n
 Motion:\n\nTo Approve Last Year's AGM Minutes (April 27\, 2025)      
  Alana Newton\, President\n\n&nbsp\;\n\nReports\n\n.....
CATEGORIES:Conference,Meeting,More CCSL Events
END:VEVENT
BEGIN:VTIMEZONE
TZID:America/Edmonton
X-LIC-LOCATION:America/Edmonton
BEGIN:DAYLIGHT
DTSTART:20260308T030000
TZOFFSETFROM:-0700
TZOFFSETTO:-0600
TZNAME:MDT
END:DAYLIGHT
END:VTIMEZONE
END:VCALENDAR