BEGIN:VCALENDAR
VERSION:2.0
PRODID:-//wp-events-plugin.com//7.2.3.1//EN
TZID:America/Edmonton
X-WR-TIMEZONE:America/Edmonton
BEGIN:VEVENT
UID:2016@calgarycsl.org
DTSTART;TZID=America/Edmonton:20220921T060000
DTEND;TZID=America/Edmonton:20220921T200000
DTSTAMP:20220901T175549Z
URL:https://calgarycsl.org/events/2022-united-nations-international-day-of
 -peace/
SUMMARY:2022 United Nations International Day of Peace
DESCRIPTION:
ATTACH;FMTTYPE=image/jpeg:https://calgarycsl.org/wp-content/uploads/2021/0
 3/mar-28.png
CATEGORIES:External Public,More CCSL Events
END:VEVENT
BEGIN:VTIMEZONE
TZID:America/Edmonton
X-LIC-LOCATION:America/Edmonton
BEGIN:DAYLIGHT
DTSTART:20220313T030000
TZOFFSETFROM:-0700
TZOFFSETTO:-0600
TZNAME:MDT
END:DAYLIGHT
END:VTIMEZONE
END:VCALENDAR