BEGIN:VCALENDAR
VERSION:2.0
PRODID:-//wp-events-plugin.com//7.2.3.1//EN
TZID:America/Edmonton
X-WR-TIMEZONE:America/Edmonton
BEGIN:VEVENT
UID:5231@calgarycsl.org
DTSTART;TZID=America/Edmonton:20251212T200000
DTEND;TZID=America/Edmonton:20251212T220000
DTSTAMP:20251202T211033Z
URL:https://calgarycsl.org/events/19998/
SUMMARY:Christmas Concert!
DESCRIPTION:The voice of Amy Bishop is a combination of the smoothness of t
 he pavement and the gravel of the road\, with the ability to charm listene
 rs with her sweet tones\; yet stun audiences with the ability to hit any h
 igh note. Hailing from Calgary\, Amy Bishop began her music career around 
 campfires\, at block parties\, and in the church choir. Since\, she has wr
 itten a song with Niki Six while more than happy to blow your socks off wi
 th her rendition of Leonard Cohen's "Hallelujah"\n\nHearing Amy live is a 
 treat that you owe yourself.\n\nHear how some of her songs came to be and 
 enjoy the unique humour that Amy brings to this performance that will in
 clude several holiday season songs you are certain to want to sing along w
 ith.\n\nConcert starts at 8:00 PM\, doors open at 7:30 PM\n\nLimited Ticke
 ts available for $30 via E-Transfer\, send to office@calgarycsl.org\nOr yo
 u can purchase by clicking here \n\nNo refunds on ticket sales
ATTACH;FMTTYPE=image/jpeg:https://calgarycsl.org/wp-content/uploads/2020/0
 3/amybishopwhite-scaled-e1586746708664.jpg
CATEGORIES:Concert,More CCSL Events,Social
END:VEVENT
BEGIN:VTIMEZONE
TZID:America/Edmonton
X-LIC-LOCATION:America/Edmonton
BEGIN:STANDARD
DTSTART:20251102T010000
TZOFFSETFROM:-0600
TZOFFSETTO:-0700
TZNAME:MST
END:STANDARD
END:VTIMEZONE
END:VCALENDAR